BEGIN:VCALENDAR
VERSION:2.0
PRODID:-//Squarespace Inc/Squarespace 6//v6//EN
BEGIN:VEVENT
UID:5e1e4d51bb5da34235303efc@squarespace.com
DTSTAMP:20200114T233010Z
DTSTART:20200207T070000Z
DTEND:20200207T100000Z
SUMMARY:Matty Chaps LIVE on the Boatshed Deck
END:VEVENT
END:VCALENDAR
