BEGIN:VCALENDAR
VERSION:2.0
PRODID:-//Squarespace Inc/Squarespace 6//v6//EN
BEGIN:VEVENT
UID:5bab169deef1a1be651fc27b@squarespace.com
DTSTAMP:20200122T041759Z
DTSTART:20190516T080000Z
DTEND:20200226T143000Z
SUMMARY:Thursday Night Fish n' Chips
END:VEVENT
END:VCALENDAR
