BEGIN:VCALENDAR
VERSION:2.0
PRODID:-//Squarespace Inc/Squarespace 6//v6//EN
BEGIN:VEVENT
UID:5b0bd0f4352f53c0a534e893@squarespace.com
DTSTAMP:20190514T044249Z
DTSTART:20190515T080000Z
DTEND:20200923T110000Z
SUMMARY:Wednesday Chowder Night!
GEO:-37.553747;143.842947
LOCATION:Boatshed Restaurant\, 27 Wendouree Parade\, Lake Wendouree\, VIC\, 
 3350\, Australia
END:VEVENT
END:VCALENDAR
